BEGIN:VCALENDAR
VERSION:2.0
PRODID:-//Contratero//ES
CALSCALE:GREGORIAN
METHOD:PUBLISH
BEGIN:VEVENT
UID:529/21@contratero.es
DTSTAMP:20260420T204820Z
DTSTART:20220103T235959
DTEND:20220104T005959
SUMMARY:Cierre: Mantenimiento\, provisión y tratamiento de datos de
DESCRIPTION:Mantenimiento\, provisión y tratamiento de datos del Observatorio Socioeconómico de la provincia de Badajoz (OSBA)\\n\\nOrganismo: Presidencia de la Diputación de Badajoz\\n\\nVer en Contratero: https://contratero.es/contracts/529/21
URL:https://contratero.es/contracts/529/21
STATUS:CONFIRMED
BEGIN:VALARM
TRIGGER:-P1D
ACTION:DISPLAY
DESCRIPTION:Recordatorio: Mantenimiento\, provisión y tra
END:VALARM
END:VEVENT
END:VCALENDAR