BEGIN:VCALENDAR
VERSION:2.0
PRODID:-//Contratero//ES
CALSCALE:GREGORIAN
METHOD:PUBLISH
BEGIN:VEVENT
UID:52P/22@contratero.es
DTSTAMP:20260423T125310Z
DTSTART:20221121T235959
DTEND:20221122T005959
SUMMARY:Cierre: Mantenimiento software "Clip"
DESCRIPTION:Mantenimiento software "Clip"\\n\\nOrganismo: Presidencia de la Diputación Provincial de Cuenca\\n\\nVer en Contratero: https://contratero.es/contracts/52P/22
URL:https://contratero.es/contracts/52P/22
STATUS:CONFIRMED
BEGIN:VALARM
TRIGGER:-P1D
ACTION:DISPLAY
DESCRIPTION:Recordatorio: Mantenimiento software "Clip"
END:VALARM
END:VEVENT
END:VCALENDAR