BEGIN:VCALENDAR
VERSION:2.0
PRODID:-//Contratero//ES
CALSCALE:GREGORIAN
METHOD:PUBLISH
BEGIN:VEVENT
UID:5311/2025@contratero.es
DTSTAMP:20260422T143857Z
DTSTART:20250926T235959
DTEND:20250927T005959
SUMMARY:Cierre: Suministro de Licencia Microsoft 365 Empresa Están
DESCRIPTION:Suministro de Licencia Microsoft 365 Empresa Estándar.\\n\\nOrganismo: Junta de Gobierno Local del Ayuntamiento de Sanlúcar de Barrameda\\n\\nVer en Contratero: https://contratero.es/contracts/5311/2025
URL:https://contratero.es/contracts/5311/2025
STATUS:CONFIRMED
BEGIN:VALARM
TRIGGER:-P1D
ACTION:DISPLAY
DESCRIPTION:Recordatorio: Suministro de Licencia Microso
END:VALARM
END:VEVENT
END:VCALENDAR