BEGIN:VCALENDAR
VERSION:2.0
PRODID:-//Contratero//ES
CALSCALE:GREGORIAN
METHOD:PUBLISH
BEGIN:VEVENT
UID:532023@contratero.es
DTSTAMP:20260421T201853Z
DTSTART:20240122T235959
DTEND:20240123T005959
SUMMARY:Cierre: Servicios de soporte para la implantación\, consoli
DESCRIPTION:Servicios de soporte para la implantación\, consolidación y operación del nodo central de la Plataforma Inteligente de Destinos. Las necesidades a satisfacer se especifican con mayor detalle en el “PLI...\\n\\nOrganismo: Consejo de Administración de la Sociedad Mercantil Estatal para la Gestión de la Innovación y las Tecnologías Turísticas\, S.A.M.P. (SEGITTUR)\\n\\nVer en Contratero: https://contratero.es/contracts/532023
URL:https://contratero.es/contracts/532023
STATUS:CONFIRMED
BEGIN:VALARM
TRIGGER:-P1D
ACTION:DISPLAY
DESCRIPTION:Recordatorio: Servicios de soporte para la i
END:VALARM
END:VEVENT
END:VCALENDAR