BEGIN:VCALENDAR
VERSION:2.0
PRODID:-//Contratero//ES
CALSCALE:GREGORIAN
METHOD:PUBLISH
BEGIN:VEVENT
UID:536/2025@contratero.es
DTSTAMP:20260422T071142Z
DTSTART:20250722T235959
DTEND:20250723T005959
SUMMARY:Cierre: Procedimiento abierto simplificado sumario servici
DESCRIPTION:Procedimiento abierto simplificado sumario servicio "Gestión apoyo al comercio virtual de Mejorada del Campo (Madrid)"\\n\\nOrganismo: Junta de Gobierno del Ayuntamiento de Mejorada del Campo\\n\\nVer en Contratero: https://contratero.es/contracts/536/2025
URL:https://contratero.es/contracts/536/2025
STATUS:CONFIRMED
BEGIN:VALARM
TRIGGER:-P1D
ACTION:DISPLAY
DESCRIPTION:Recordatorio: Procedimiento abierto simplifi
END:VALARM
END:VEVENT
END:VCALENDAR