BEGIN:VCALENDAR
VERSION:2.0
PRODID:-//Contratero//ES
CALSCALE:GREGORIAN
METHOD:PUBLISH
BEGIN:VEVENT
UID:5364/2022@contratero.es
DTSTAMP:20260423T145443Z
DTSTART:20221202T235959
DTEND:20221203T005959
SUMMARY:Cierre: contratación de adquisición de licencias de los si
DESCRIPTION:contratación de adquisición de licencias de los siguientes sistemas informáticos: padrón municipal de habitantes\, gestión económica y financiera\, gestión tributaria y recaudación y gestión de recursos\\n\\nOrganismo: Pleno del Ayuntamiento de Santa Pola\\n\\nVer en Contratero: https://contratero.es/contracts/5364/2022
URL:https://contratero.es/contracts/5364/2022
STATUS:CONFIRMED
BEGIN:VALARM
TRIGGER:-P1D
ACTION:DISPLAY
DESCRIPTION:Recordatorio: contratación de adquisición de
END:VALARM
END:VEVENT
END:VCALENDAR