BEGIN:VCALENDAR
VERSION:2.0
PRODID:-//Contratero//ES
CALSCALE:GREGORIAN
METHOD:PUBLISH
BEGIN:VEVENT
UID:537/2022@contratero.es
DTSTAMP:20260422T143740Z
DTSTART:20220813T235959
DTEND:20220814T005959
SUMMARY:Cierre: Suministro de licencias de usuario\, de cliente y d
DESCRIPTION:Suministro de licencias de usuario\, de cliente y de servidor (mediante suscripción) y servicios de soporte (dentro de un contrato ‘Enterprise Agreement’ de Microsoft”)\, de implantación\, de adopción y ...\\n\\nOrganismo: Dirección General de Gestión Económica\, Contratación e Infraestructuras de la Conselleria de Sanidad\\n\\nVer en Contratero: https://contratero.es/contracts/537/2022
URL:https://contratero.es/contracts/537/2022
STATUS:CONFIRMED
BEGIN:VALARM
TRIGGER:-P1D
ACTION:DISPLAY
DESCRIPTION:Recordatorio: Suministro de licencias de usu
END:VALARM
END:VEVENT
END:VCALENDAR