BEGIN:VCALENDAR
VERSION:2.0
PRODID:-//Contratero//ES
CALSCALE:GREGORIAN
METHOD:PUBLISH
BEGIN:VEVENT
UID:5397/2025@contratero.es
DTSTAMP:20260421T092116Z
DTSTART:20250529T235959
DTEND:20250530T005959
SUMMARY:Cierre: Suministro para adquisición de licencias TeamViewe
DESCRIPTION:Suministro para adquisición de licencias TeamViewer\\n\\nOrganismo: Alcaldía del Ayuntamiento de Santa Cruz de La Palma\\n\\nVer en Contratero: https://contratero.es/contracts/5397/2025
URL:https://contratero.es/contracts/5397/2025
STATUS:CONFIRMED
BEGIN:VALARM
TRIGGER:-P1D
ACTION:DISPLAY
DESCRIPTION:Recordatorio: Suministro para adquisición de
END:VALARM
END:VEVENT
END:VCALENDAR