BEGIN:VCALENDAR
VERSION:2.0
PRODID:-//Contratero//ES
CALSCALE:GREGORIAN
METHOD:PUBLISH
BEGIN:VEVENT
UID:54/17@contratero.es
DTSTAMP:20260422T024709Z
DTSTART:20180404T235959
DTEND:20180405T005959
SUMMARY:Cierre: Contrato de prestación de servicios informáticos p
DESCRIPTION:Contrato de prestación de servicios informáticos para el desarrollo e implantación de un sistema de gestión y explotación portuaria\\n\\nOrganismo: Puertos de las Illes Balears\\n\\nVer en Contratero: https://contratero.es/contracts/54/17
URL:https://contratero.es/contracts/54/17
STATUS:CONFIRMED
BEGIN:VALARM
TRIGGER:-P1D
ACTION:DISPLAY
DESCRIPTION:Recordatorio: Contrato de prestación de serv
END:VALARM
END:VEVENT
END:VCALENDAR