BEGIN:VCALENDAR
VERSION:2.0
PRODID:-//Contratero//ES
CALSCALE:GREGORIAN
METHOD:PUBLISH
BEGIN:VEVENT
UID:54/2023/27006@contratero.es
DTSTAMP:20260423T044621Z
DTSTART:20230313T235959
DTEND:20230314T005959
SUMMARY:Cierre: Mantenimiento Servicios Software Gestión de Soport
DESCRIPTION:Mantenimiento Servicios Software Gestión de Soporte Online ISLOnline\, Servicios Municipales Ayuntamiento de Arganda del Rey.\\n\\nOrganismo: Concejalía Delegada de Hacienda\, Régimen Interior del Ayuntamiento de Arganda del Rey\\n\\nVer en Contratero: https://contratero.es/contracts/54/2023/27006
URL:https://contratero.es/contracts/54/2023/27006
STATUS:CONFIRMED
BEGIN:VALARM
TRIGGER:-P1D
ACTION:DISPLAY
DESCRIPTION:Recordatorio: Mantenimiento Servicios Softwa
END:VALARM
END:VEVENT
END:VCALENDAR