BEGIN:VCALENDAR
VERSION:2.0
PRODID:-//Contratero//ES
CALSCALE:GREGORIAN
METHOD:PUBLISH
BEGIN:VEVENT
UID:5438/2024@contratero.es
DTSTAMP:20260421T111317Z
DTSTART:20240710T235959
DTEND:20240711T005959
SUMMARY:Cierre: C. Servicios para el “Mantenimiento de la aplicaci
DESCRIPTION:C. Servicios para el “Mantenimiento de la aplicación denominada como “Ronda A Mano”\, que tiene por objeto la gestión de incidencias que se producen en la vía pública.”\\n\\nOrganismo: Alcaldía del Ayuntamiento de Ronda\\n\\nVer en Contratero: https://contratero.es/contracts/5438/2024
URL:https://contratero.es/contracts/5438/2024
STATUS:CONFIRMED
BEGIN:VALARM
TRIGGER:-P1D
ACTION:DISPLAY
DESCRIPTION:Recordatorio: C. Servicios para el “Mantenim
END:VALARM
END:VEVENT
END:VCALENDAR