BEGIN:VCALENDAR
VERSION:2.0
PRODID:-//Contratero//ES
CALSCALE:GREGORIAN
METHOD:PUBLISH
BEGIN:VEVENT
UID:544/2021@contratero.es
DTSTAMP:20260421T220132Z
DTSTART:20211025T235959
DTEND:20211026T005959
SUMMARY:Cierre: Servicios de desarrollo y mantenimiento de las apl
DESCRIPTION:Servicios de desarrollo y mantenimiento de las aplicaciones informáticas de diversos ámbitos del Instituto de Mayores y Servicios Sociales (IMSERSO)\\n\\nOrganismo: Dirección General del Instituto de Mayores y Servicios Sociales\\n\\nVer en Contratero: https://contratero.es/contracts/544/2021
URL:https://contratero.es/contracts/544/2021
STATUS:CONFIRMED
BEGIN:VALARM
TRIGGER:-P1D
ACTION:DISPLAY
DESCRIPTION:Recordatorio: Servicios de desarrollo y mant
END:VALARM
END:VEVENT
END:VCALENDAR