BEGIN:VCALENDAR
VERSION:2.0
PRODID:-//Contratero//ES
CALSCALE:GREGORIAN
METHOD:PUBLISH
BEGIN:VEVENT
UID:546/2024@contratero.es
DTSTAMP:20260422T071254Z
DTSTART:20241223T235959
DTEND:20241224T005959
SUMMARY:Cierre: Suministro de uso para ADR Baleares de las siguien
DESCRIPTION:Suministro de uso para ADR Baleares de las siguientes licencias de software:\nRenovación de 5 Licencias Adobe Creative Cloud\; Adquisición de 1 Licencia Adobe Creative Cloud\; Renovación de 1 Licencia A...\\n\\nOrganismo: Agencia de Desarrollo Regional de las Illes Balears\\n\\nVer en Contratero: https://contratero.es/contracts/546/2024
URL:https://contratero.es/contracts/546/2024
STATUS:CONFIRMED
BEGIN:VALARM
TRIGGER:-P1D
ACTION:DISPLAY
DESCRIPTION:Recordatorio: Suministro de uso para ADR Bal
END:VALARM
END:VEVENT
END:VCALENDAR