BEGIN:VCALENDAR
VERSION:2.0
PRODID:-//Contratero//ES
CALSCALE:GREGORIAN
METHOD:PUBLISH
BEGIN:VEVENT
UID:55/T/24/SS/GE/A/0242@contratero.es
DTSTAMP:20260420T214105Z
DTSTART:20241213T235959
DTEND:20241214T005959
SUMMARY:Cierre: Servicio de mantenimiento y soporte para la emisió
DESCRIPTION:Servicio de mantenimiento y soporte para la emisión instantánea de tarjetas de identificación para el Complejo Hospitalario Universitario Nuestra Señora de Candelaria y su red de centros mediante proc...\\n\\nOrganismo: Dirección Gerente del Hospital Universitario Nuestra Señora de Candelaria\\n\\nVer en Contratero: https://contratero.es/contracts/55/T/24/SS/GE/A/0242
URL:https://contratero.es/contracts/55/T/24/SS/GE/A/0242
STATUS:CONFIRMED
BEGIN:VALARM
TRIGGER:-P1D
ACTION:DISPLAY
DESCRIPTION:Recordatorio: Servicio de mantenimiento y so
END:VALARM
END:VEVENT
END:VCALENDAR