BEGIN:VCALENDAR
VERSION:2.0
PRODID:-//Contratero//ES
CALSCALE:GREGORIAN
METHOD:PUBLISH
BEGIN:VEVENT
UID:5501/2025@contratero.es
DTSTAMP:20260422T194339Z
DTSTART:20250918T235959
DTEND:20250919T005959
SUMMARY:Cierre: Servicio de actualización de los módulos de padrón
DESCRIPTION:Servicio de actualización de los módulos de padrón de habitantes y carpeta ciudadana en el aplicativa de T-Systems\\n\\nOrganismo: Alcaldía del ayuntamiento de Benifaió\\n\\nVer en Contratero: https://contratero.es/contracts/5501/2025
URL:https://contratero.es/contracts/5501/2025
STATUS:CONFIRMED
BEGIN:VALARM
TRIGGER:-P1D
ACTION:DISPLAY
DESCRIPTION:Recordatorio: Servicio de actualización de l
END:VALARM
END:VEVENT
END:VCALENDAR