BEGIN:VCALENDAR
VERSION:2.0
PRODID:-//Contratero//ES
CALSCALE:GREGORIAN
METHOD:PUBLISH
BEGIN:VEVENT
UID:551/2024@contratero.es
DTSTAMP:20260422T164920Z
DTSTART:20250324T235959
DTEND:20250325T005959
SUMMARY:Cierre: Prestación del servicio de doble copia de segurida
DESCRIPTION:Prestación del servicio de doble copia de seguridad para la Mancomunidad de Municipios de la Costa del Sol occidental.\\n\\nOrganismo: Presidencia de la Mancomunidad de Municipios de la Costa del Sol Occidental\\n\\nVer en Contratero: https://contratero.es/contracts/551/2024
URL:https://contratero.es/contracts/551/2024
STATUS:CONFIRMED
BEGIN:VALARM
TRIGGER:-P1D
ACTION:DISPLAY
DESCRIPTION:Recordatorio: Prestación del servicio de dob
END:VALARM
END:VEVENT
END:VCALENDAR