BEGIN:VCALENDAR
VERSION:2.0
PRODID:-//Contratero//ES
CALSCALE:GREGORIAN
METHOD:PUBLISH
BEGIN:VEVENT
UID:557/23@contratero.es
DTSTAMP:20260422T052447Z
DTSTART:20231226T235959
DTEND:20231227T005959
SUMMARY:Cierre: Soporte y mantenimiento de 27 sistemas Firewall Fo
DESCRIPTION:Soporte y mantenimiento de 27 sistemas Firewall Fortigate para 2024\\n\\nOrganismo: Presidencia de la Diputación de Badajoz\\n\\nVer en Contratero: https://contratero.es/contracts/557/23
URL:https://contratero.es/contracts/557/23
STATUS:CONFIRMED
BEGIN:VALARM
TRIGGER:-P1D
ACTION:DISPLAY
DESCRIPTION:Recordatorio: Soporte y mantenimiento de 27 
END:VALARM
END:VEVENT
END:VCALENDAR