BEGIN:VCALENDAR
VERSION:2.0
PRODID:-//Contratero//ES
CALSCALE:GREGORIAN
METHOD:PUBLISH
BEGIN:VEVENT
UID:558/2025@contratero.es
DTSTAMP:20260422T152010Z
DTSTART:20250603T235959
DTEND:20250604T005959
SUMMARY:Cierre: Licencia y mantenimiento aplicación ERAMBA
DESCRIPTION:Licencia y mantenimiento aplicación ERAMBA\\n\\nOrganismo: Autoridad Portuaria de Avilés\\n\\nVer en Contratero: https://contratero.es/contracts/558/2025
URL:https://contratero.es/contracts/558/2025
STATUS:CONFIRMED
BEGIN:VALARM
TRIGGER:-P1D
ACTION:DISPLAY
DESCRIPTION:Recordatorio: Licencia y mantenimiento aplic
END:VALARM
END:VEVENT
END:VCALENDAR