BEGIN:VCALENDAR
VERSION:2.0
PRODID:-//Contratero//ES
CALSCALE:GREGORIAN
METHOD:PUBLISH
BEGIN:VEVENT
UID:56/GE22@contratero.es
DTSTAMP:20260422T133129Z
DTSTART:20221125T235959
DTEND:20221126T005959
SUMMARY:Cierre: Servicio de Colaboración en la gestión del servici
DESCRIPTION:Servicio de Colaboración en la gestión del servicio tributario del Organismo Autónomo de Gestión Económica y Recaudación del Ayuntamiento de Salamanca\\n\\nOrganismo: Presidencia del Organismo Autónomo de Gestión Económica y Recaudación del Excmo. Ayuntamiento de Salamanca (O.A.G.E.R.)\\n\\nVer en Contratero: https://contratero.es/contracts/56/GE22
URL:https://contratero.es/contracts/56/GE22
STATUS:CONFIRMED
BEGIN:VALARM
TRIGGER:-P1D
ACTION:DISPLAY
DESCRIPTION:Recordatorio: Servicio de Colaboración en la
END:VALARM
END:VEVENT
END:VCALENDAR