BEGIN:VCALENDAR
VERSION:2.0
PRODID:-//Contratero//ES
CALSCALE:GREGORIAN
METHOD:PUBLISH
BEGIN:VEVENT
UID:573/2021@contratero.es
DTSTAMP:20260421T053622Z
DTSTART:20210421T235959
DTEND:20210422T005959
SUMMARY:Cierre: Acceso a Internet y telefonía para el Centro Turís
DESCRIPTION:Acceso a Internet y telefonía para el Centro Turístico Sierra de Béjar-La Covatilla\\n\\nOrganismo: Alcaldía del Ayuntamiento de Béjar\\n\\nVer en Contratero: https://contratero.es/contracts/573/2021
URL:https://contratero.es/contracts/573/2021
STATUS:CONFIRMED
BEGIN:VALARM
TRIGGER:-P1D
ACTION:DISPLAY
DESCRIPTION:Recordatorio: Acceso a Internet y telefonía 
END:VALARM
END:VEVENT
END:VCALENDAR