BEGIN:VCALENDAR
VERSION:2.0
PRODID:-//Contratero//ES
CALSCALE:GREGORIAN
METHOD:PUBLISH
BEGIN:VEVENT
UID:58/2025@contratero.es
DTSTAMP:20260421T220413Z
DTSTART:20250731T235959
DTEND:20250801T005959
SUMMARY:Cierre: Servicio informático relativo al mantenimiento del
DESCRIPTION:Servicio informático relativo al mantenimiento del sistema de gestión integral del parque de extinción de incendios del Ayuntamiento de Ávila\\n\\nOrganismo: Junta de Gobierno Local del Ayuntamiento de Ávila\\n\\nVer en Contratero: https://contratero.es/contracts/58/2025
URL:https://contratero.es/contracts/58/2025
STATUS:CONFIRMED
BEGIN:VALARM
TRIGGER:-P1D
ACTION:DISPLAY
DESCRIPTION:Recordatorio: Servicio informático relativo 
END:VALARM
END:VEVENT
END:VCALENDAR