BEGIN:VCALENDAR
VERSION:2.0
PRODID:-//Contratero//ES
CALSCALE:GREGORIAN
METHOD:PUBLISH
BEGIN:VEVENT
UID:582021014200@contratero.es
DTSTAMP:20260423T000835Z
DTSTART:20210426T235959
DTEND:20210427T005959
SUMMARY:Cierre: Mantenimiento 2021 subsistemas ARF\, FMC\, PDS\, SEC 
DESCRIPTION:Mantenimiento 2021 subsistemas ARF\, FMC\, PDS\, SEC y seguridad TIC ST de PAZ\\n\\nOrganismo: Dirección General del INTA M.P.\\n\\nVer en Contratero: https://contratero.es/contracts/582021014200
URL:https://contratero.es/contracts/582021014200
STATUS:CONFIRMED
BEGIN:VALARM
TRIGGER:-P1D
ACTION:DISPLAY
DESCRIPTION:Recordatorio: Mantenimiento 2021 subsistemas
END:VALARM
END:VEVENT
END:VCALENDAR