BEGIN:VCALENDAR
VERSION:2.0
PRODID:-//Contratero//ES
CALSCALE:GREGORIAN
METHOD:PUBLISH
BEGIN:VEVENT
UID:582022064000@contratero.es
DTSTAMP:20260422T194420Z
DTSTART:20220810T235959
DTEND:20220811T005959
SUMMARY:Cierre: Revisión del sistema de control de climatización d
DESCRIPTION:Revisión del sistema de control de climatización del CEC\\n\\nOrganismo: Dirección General del INTA\\n\\nVer en Contratero: https://contratero.es/contracts/582022064000
URL:https://contratero.es/contracts/582022064000
STATUS:CONFIRMED
BEGIN:VALARM
TRIGGER:-P1D
ACTION:DISPLAY
DESCRIPTION:Recordatorio: Revisión del sistema de contro
END:VALARM
END:VEVENT
END:VCALENDAR