BEGIN:VCALENDAR
VERSION:2.0
PRODID:-//Contratero//ES
CALSCALE:GREGORIAN
METHOD:PUBLISH
BEGIN:VEVENT
UID:582023104500@contratero.es
DTSTAMP:20260423T032904Z
DTSTART:20231228T235959
DTEND:20231229T005959
SUMMARY:Cierre: Mantenimiento 2024-2025 de los subsistemas fds\, mc
DESCRIPTION:Mantenimiento 2024-2025 de los subsistemas fds\, mcs\, mpf\, gfts y mus del segmento terreno de paz\\n\\nOrganismo: Dirección General del INTA\\n\\nVer en Contratero: https://contratero.es/contracts/582023104500
URL:https://contratero.es/contracts/582023104500
STATUS:CONFIRMED
BEGIN:VALARM
TRIGGER:-P1D
ACTION:DISPLAY
DESCRIPTION:Recordatorio: Mantenimiento 2024-2025 de los
END:VALARM
END:VEVENT
END:VCALENDAR