BEGIN:VCALENDAR
VERSION:2.0
PRODID:-//Contratero//ES
CALSCALE:GREGORIAN
METHOD:PUBLISH
BEGIN:VEVENT
UID:582025006400@contratero.es
DTSTAMP:20260421T134828Z
DTSTART:20250505T235959
DTEND:20250506T005959
SUMMARY:Cierre: Mantenimiento 2025-2026 subsistemas ARF\, FMC\,PDS y
DESCRIPTION:Mantenimiento 2025-2026 subsistemas ARF\, FMC\,PDS y seguridad TIC ST DE PAZ.\\n\\nOrganismo: Dirección General del INTA\\n\\nVer en Contratero: https://contratero.es/contracts/582025006400
URL:https://contratero.es/contracts/582025006400
STATUS:CONFIRMED
BEGIN:VALARM
TRIGGER:-P1D
ACTION:DISPLAY
DESCRIPTION:Recordatorio: Mantenimiento 2025-2026 subsis
END:VALARM
END:VEVENT
END:VCALENDAR