BEGIN:VCALENDAR
VERSION:2.0
PRODID:-//Contratero//ES
CALSCALE:GREGORIAN
METHOD:PUBLISH
BEGIN:VEVENT
UID:582025037500@contratero.es
DTSTAMP:20260421T154408Z
DTSTART:20250716T235959
DTEND:20250717T005959
SUMMARY:Cierre: Mantenimiento 2025-2027 de los subsistemas fds\, mc
DESCRIPTION:Mantenimiento 2025-2027 de los subsistemas fds\, mcs\, mpf\, gfts y mus\\n\\nOrganismo: Dirección General del INTA\\n\\nVer en Contratero: https://contratero.es/contracts/582025037500
URL:https://contratero.es/contracts/582025037500
STATUS:CONFIRMED
BEGIN:VALARM
TRIGGER:-P1D
ACTION:DISPLAY
DESCRIPTION:Recordatorio: Mantenimiento 2025-2027 de los
END:VALARM
END:VEVENT
END:VCALENDAR