BEGIN:VCALENDAR
VERSION:2.0
PRODID:-//Contratero//ES
CALSCALE:GREGORIAN
METHOD:PUBLISH
BEGIN:VEVENT
UID:587/2025@contratero.es
DTSTAMP:20260421T234212Z
DTSTART:20250321T235959
DTEND:20250322T005959
SUMMARY:Cierre: Plataforma informática para venta de entradas tele
DESCRIPTION:Plataforma informática para venta de entradas telemática y en la taquilla del Teatro Goya\\n\\nOrganismo: Junta de Gobierno Local del Ayuntamiento de Caspe\\n\\nVer en Contratero: https://contratero.es/contracts/587/2025
URL:https://contratero.es/contracts/587/2025
STATUS:CONFIRMED
BEGIN:VALARM
TRIGGER:-P1D
ACTION:DISPLAY
DESCRIPTION:Recordatorio: Plataforma informática para ve
END:VALARM
END:VEVENT
END:VCALENDAR