BEGIN:VCALENDAR
VERSION:2.0
PRODID:-//Contratero//ES
CALSCALE:GREGORIAN
METHOD:PUBLISH
BEGIN:VEVENT
UID:58P/23@contratero.es
DTSTAMP:20260420T185322Z
DTSTART:20231027T235959
DTEND:20231028T005959
SUMMARY:Cierre: Servicio integral de telecomunicaciones para la Di
DESCRIPTION:Servicio integral de telecomunicaciones para la Diputación Provincial de Cuenca.\\n\\nOrganismo: Presidencia de la Diputación Provincial de Cuenca\\n\\nVer en Contratero: https://contratero.es/contracts/58P/23
URL:https://contratero.es/contracts/58P/23
STATUS:CONFIRMED
BEGIN:VALARM
TRIGGER:-P1D
ACTION:DISPLAY
DESCRIPTION:Recordatorio: Servicio integral de telecomun
END:VALARM
END:VEVENT
END:VCALENDAR