BEGIN:VCALENDAR
VERSION:2.0
PRODID:-//Contratero//ES
CALSCALE:GREGORIAN
METHOD:PUBLISH
BEGIN:VEVENT
UID:594/2025@contratero.es
DTSTAMP:20260422T073935Z
DTSTART:20251216T235959
DTEND:20251217T005959
SUMMARY:Cierre: Adquisición\, instalación\, configuración y puesta e
DESCRIPTION:Adquisición\, instalación\, configuración y puesta en marcha de soluciones tecnológicas para la modernización digital de Olmedo (PSTD\, cofinanciado PRTR–NextGenerationEU). Lotes: (1) ticketing/CRM\, cont...\\n\\nOrganismo: Alcaldia del Ayuntamiento de Olmedo\\n\\nVer en Contratero: https://contratero.es/contracts/594/2025
URL:https://contratero.es/contracts/594/2025
STATUS:CONFIRMED
BEGIN:VALARM
TRIGGER:-P1D
ACTION:DISPLAY
DESCRIPTION:Recordatorio: Adquisición\, instalación\, conf
END:VALARM
END:VEVENT
END:VCALENDAR