BEGIN:VCALENDAR
VERSION:2.0
PRODID:-//Contratero//ES
CALSCALE:GREGORIAN
METHOD:PUBLISH
BEGIN:VEVENT
UID:5944/2023@contratero.es
DTSTAMP:20260420T185617Z
DTSTART:20230818T235959
DTEND:20230819T005959
SUMMARY:Cierre: Servicio de seguimiento de medios audiovisuales lo
DESCRIPTION:Servicio de seguimiento de medios audiovisuales locales\, regionales y nacionales (Press Clipping).\\n\\nOrganismo: Presidencia del Cabildo Insular de Lanzarote\\n\\nVer en Contratero: https://contratero.es/contracts/5944/2023
URL:https://contratero.es/contracts/5944/2023
STATUS:CONFIRMED
BEGIN:VALARM
TRIGGER:-P1D
ACTION:DISPLAY
DESCRIPTION:Recordatorio: Servicio de seguimiento de med
END:VALARM
END:VEVENT
END:VCALENDAR