BEGIN:VCALENDAR
VERSION:2.0
PRODID:-//Contratero//ES
CALSCALE:GREGORIAN
METHOD:PUBLISH
BEGIN:VEVENT
UID:5960/2025@contratero.es
DTSTAMP:20260420T041330Z
DTSTART:20260401T235959
DTEND:20260402T005959
SUMMARY:Cierre: Asistencia para la mejora del nivel de ciberseguri
DESCRIPTION:Asistencia para la mejora del nivel de ciberseguridad\, el cumplimiento normativo en materia de protección de datos y la prestación de los servicios de Delegado de Protección de Datos (DPD) y Responsab...\\n\\nOrganismo: Presidencia de la Diputación Provincial de Ávila\\n\\nVer en Contratero: https://contratero.es/contracts/5960/2025
URL:https://contratero.es/contracts/5960/2025
STATUS:CONFIRMED
BEGIN:VALARM
TRIGGER:-P1D
ACTION:DISPLAY
DESCRIPTION:Recordatorio: Asistencia para la mejora del 
END:VALARM
END:VEVENT
END:VCALENDAR