BEGIN:VCALENDAR
VERSION:2.0
PRODID:-//Contratero//ES
CALSCALE:GREGORIAN
METHOD:PUBLISH
BEGIN:VEVENT
UID:6/2023@contratero.es
DTSTAMP:20260422T075314Z
DTSTART:20240222T235959
DTEND:20240223T005959
SUMMARY:Cierre: Contrato mixto de suministro de licencias de softw
DESCRIPTION:Contrato mixto de suministro de licencias de software de Microsoft\, incluyendo formación\, mantenimiento y soporte de las mismas.\\n\\nOrganismo: Presidencia del Patronato de Recaudación Provincial\\n\\nVer en Contratero: https://contratero.es/contracts/6/2023
URL:https://contratero.es/contracts/6/2023
STATUS:CONFIRMED
BEGIN:VALARM
TRIGGER:-P1D
ACTION:DISPLAY
DESCRIPTION:Recordatorio: Contrato mixto de suministro d
END:VALARM
END:VEVENT
END:VCALENDAR