BEGIN:VCALENDAR
VERSION:2.0
PRODID:-//Contratero//ES
CALSCALE:GREGORIAN
METHOD:PUBLISH
BEGIN:VEVENT
UID:6/2025/SV@contratero.es
DTSTAMP:20260422T102648Z
DTSTART:20250508T235959
DTEND:20250509T005959
SUMMARY:Cierre: Suministro de Licencias Servidor Streaming
DESCRIPTION:Suministro de Licencias Servidor Streaming\\n\\nOrganismo: Mesa del Parlamento de Canarias\\n\\nVer en Contratero: https://contratero.es/contracts/6/2025/SV
URL:https://contratero.es/contracts/6/2025/SV
STATUS:CONFIRMED
BEGIN:VALARM
TRIGGER:-P1D
ACTION:DISPLAY
DESCRIPTION:Recordatorio: Suministro de Licencias Servid
END:VALARM
END:VEVENT
END:VCALENDAR