BEGIN:VCALENDAR
VERSION:2.0
PRODID:-//Contratero//ES
CALSCALE:GREGORIAN
METHOD:PUBLISH
BEGIN:VEVENT
UID:6/22-C@contratero.es
DTSTAMP:20260424T013243Z
DTSTART:20220921T235959
DTEND:20220922T005959
SUMMARY:Cierre: Contrato de servicios de infraestructura y aplicac
DESCRIPTION:Contrato de servicios de infraestructura y aplicaciones informáticas de soporte a las áreas de Intervención\, Tesorería y subvenciones del Ayuntamiento de Sagunto y su organismo autónomo en modalidad s...\\n\\nOrganismo: Junta de Gobierno del Ayuntamiento de Sagunto\\n\\nVer en Contratero: https://contratero.es/contracts/6/22-C
URL:https://contratero.es/contracts/6/22-C
STATUS:CONFIRMED
BEGIN:VALARM
TRIGGER:-P1D
ACTION:DISPLAY
DESCRIPTION:Recordatorio: Contrato de servicios de infra
END:VALARM
END:VEVENT
END:VCALENDAR