BEGIN:VCALENDAR
VERSION:2.0
PRODID:-//Contratero//ES
CALSCALE:GREGORIAN
METHOD:PUBLISH
BEGIN:VEVENT
UID:6010/2025@contratero.es
DTSTAMP:20260420T084418Z
DTSTART:20251210T235959
DTEND:20251211T005959
SUMMARY:Cierre: Suministro de licencia de uso de software de gesti
DESCRIPTION:Suministro de licencia de uso de software de gestión digital del control de calidad del agua en el libro de piscinas y envío de informes SILOE al Ministerio de Sanidad.\\n\\nOrganismo: Junta de Gobierno del Ayuntamiento San Juan de Aznalfarache\\n\\nVer en Contratero: https://contratero.es/contracts/6010/2025
URL:https://contratero.es/contracts/6010/2025
STATUS:CONFIRMED
BEGIN:VALARM
TRIGGER:-P1D
ACTION:DISPLAY
DESCRIPTION:Recordatorio: Suministro de licencia de uso 
END:VALARM
END:VEVENT
END:VCALENDAR