BEGIN:VCALENDAR
VERSION:2.0
PRODID:-//Contratero//ES
CALSCALE:GREGORIAN
METHOD:PUBLISH
BEGIN:VEVENT
UID:602025PA1003@contratero.es
DTSTAMP:20260420T123448Z
DTSTART:20250328T235959
DTEND:20250329T005959
SUMMARY:Cierre: Servicios de una plataforma e-learning para la imp
DESCRIPTION:Servicios de una plataforma e-learning para la impartición de la formación profesional marítima y sanitaria del Instituto Social de la Marina\, su mantenimiento y actualización (PLT ON LINE FPMS-ISM)\\n\\nOrganismo: Instituto Social de la Marina -División de Administración y Análisis Presupuestario\\n\\nVer en Contratero: https://contratero.es/contracts/602025PA1003
URL:https://contratero.es/contracts/602025PA1003
STATUS:CONFIRMED
BEGIN:VALARM
TRIGGER:-P1D
ACTION:DISPLAY
DESCRIPTION:Recordatorio: Servicios de una plataforma e-
END:VALARM
END:VEVENT
END:VCALENDAR