BEGIN:VCALENDAR
VERSION:2.0
PRODID:-//Contratero//ES
CALSCALE:GREGORIAN
METHOD:PUBLISH
BEGIN:VEVENT
UID:602025PA1010@contratero.es
DTSTAMP:20260424T151332Z
DTSTART:20260109T235959
DTEND:20260110T005959
SUMMARY:Cierre: Servicio de actualización\, redacción\, diseño\, desa
DESCRIPTION:Servicio de actualización\, redacción\, diseño\, desarrollo y digitalización de la Guía Sanitaria de a bordo del Instituto Social de la Marina\\n\\nOrganismo: Instituto Social de la Marina -División de Administración y Análisis Presupuestario\\n\\nVer en Contratero: https://contratero.es/contracts/602025PA1010
URL:https://contratero.es/contracts/602025PA1010
STATUS:CONFIRMED
BEGIN:VALARM
TRIGGER:-P1D
ACTION:DISPLAY
DESCRIPTION:Recordatorio: Servicio de actualización\, red
END:VALARM
END:VEVENT
END:VCALENDAR