BEGIN:VCALENDAR
VERSION:2.0
PRODID:-//Contratero//ES
CALSCALE:GREGORIAN
METHOD:PUBLISH
BEGIN:VEVENT
UID:6048/2021@contratero.es
DTSTAMP:20260424T105125Z
DTSTART:20211207T235959
DTEND:20211208T005959
SUMMARY:Cierre: Servicio de soporte\, actualización y mantenimiento
DESCRIPTION:Servicio de soporte\, actualización y mantenimiento de las licencias de los sistemas\, subsistemas de gestión y módulos complementarios que integran la aplicación informática EUROCOP para la gestión int...\\n\\nOrganismo: Junta de Gobierno del Ayuntamiento de la Leal Villa de El Escorial\\n\\nVer en Contratero: https://contratero.es/contracts/6048/2021
URL:https://contratero.es/contracts/6048/2021
STATUS:CONFIRMED
BEGIN:VALARM
TRIGGER:-P1D
ACTION:DISPLAY
DESCRIPTION:Recordatorio: Servicio de soporte\, actualiza
END:VALARM
END:VEVENT
END:VCALENDAR