BEGIN:VCALENDAR
VERSION:2.0
PRODID:-//Contratero//ES
CALSCALE:GREGORIAN
METHOD:PUBLISH
BEGIN:VEVENT
UID:61/21@contratero.es
DTSTAMP:20260424T174552Z
DTSTART:20220110T235959
DTEND:20220111T005959
SUMMARY:Cierre: servicios profesionales para la provisión y el man
DESCRIPTION:servicios profesionales para la provisión y el mantenimiento de las licencias del fabricante Microsoft\, así como los servicios profesionales por parte de una empresa especializada para asegurar la cor...\\n\\nOrganismo: Órgano de Contratación de la Ciudad Autónoma de Ceuta\\n\\nVer en Contratero: https://contratero.es/contracts/61/21
URL:https://contratero.es/contracts/61/21
STATUS:CONFIRMED
BEGIN:VALARM
TRIGGER:-P1D
ACTION:DISPLAY
DESCRIPTION:Recordatorio: servicios profesionales para l
END:VALARM
END:VEVENT
END:VCALENDAR