BEGIN:VCALENDAR
VERSION:2.0
PRODID:-//Contratero//ES
CALSCALE:GREGORIAN
METHOD:PUBLISH
BEGIN:VEVENT
UID:6100B/2018/10@contratero.es
DTSTAMP:20260425T125245Z
DTSTART:20171222T235959
DTEND:20171223T005959
SUMMARY:Cierre: Mantenimiento y Soporte  de licencias sw. para la 
DESCRIPTION:Mantenimiento y Soporte  de licencias sw. para la plataforma de Sistemas Distribuidos del CCS\\n\\nOrganismo: Consorcio de Compensación de Seguros\\n\\nVer en Contratero: https://contratero.es/contracts/6100B/2018/10
URL:https://contratero.es/contracts/6100B/2018/10
STATUS:CONFIRMED
BEGIN:VALARM
TRIGGER:-P1D
ACTION:DISPLAY
DESCRIPTION:Recordatorio: Mantenimiento y Soporte  de li
END:VALARM
END:VEVENT
END:VCALENDAR