BEGIN:VCALENDAR
VERSION:2.0
PRODID:-//Contratero//ES
CALSCALE:GREGORIAN
METHOD:PUBLISH
BEGIN:VEVENT
UID:6100B/2019/39@contratero.es
DTSTAMP:20260423T080941Z
DTSTART:20190401T235959
DTEND:20190402T005959
SUMMARY:Cierre: Servicio de Supervisión\, Monitorización\, Operación
DESCRIPTION:Servicio de Supervisión\, Monitorización\, Operación básica y Atención telefónica en horario 24X7 del Consorcio de Compensación de Seguros\\n\\nOrganismo: Consorcio de Compensación de Seguros\\n\\nVer en Contratero: https://contratero.es/contracts/6100B/2019/39
URL:https://contratero.es/contracts/6100B/2019/39
STATUS:CONFIRMED
BEGIN:VALARM
TRIGGER:-P1D
ACTION:DISPLAY
DESCRIPTION:Recordatorio: Servicio de Supervisión\, Monit
END:VALARM
END:VEVENT
END:VCALENDAR