BEGIN:VCALENDAR
VERSION:2.0
PRODID:-//Contratero//ES
CALSCALE:GREGORIAN
METHOD:PUBLISH
BEGIN:VEVENT
UID:613/2019@contratero.es
DTSTAMP:20260421T155609Z
DTSTART:20191113T235959
DTEND:20191114T005959
SUMMARY:Cierre: Acceso inalámbrico y por cable de internet para el
DESCRIPTION:Acceso inalámbrico y por cable de internet para el Centre Bit de Inca\\n\\nOrganismo: Instituto de Innovación Empresarial de las Illes Balears\\n\\nVer en Contratero: https://contratero.es/contracts/613/2019
URL:https://contratero.es/contracts/613/2019
STATUS:CONFIRMED
BEGIN:VALARM
TRIGGER:-P1D
ACTION:DISPLAY
DESCRIPTION:Recordatorio: Acceso inalámbrico y por cable
END:VALARM
END:VEVENT
END:VCALENDAR