BEGIN:VCALENDAR
VERSION:2.0
PRODID:-//Contratero//ES
CALSCALE:GREGORIAN
METHOD:PUBLISH
BEGIN:VEVENT
UID:6195/2023@contratero.es
DTSTAMP:20260422T102648Z
DTSTART:20231116T235959
DTEND:20231117T005959
SUMMARY:Cierre: Servicio Consultoría Técnica para Mantenimiento y 
DESCRIPTION:Servicio Consultoría Técnica para Mantenimiento y Auditoría Interna de Sistema de Gestión de Calidad para el CEFIT (Años 2024-2025).\\n\\nOrganismo: Alcaldía del Ayuntamiento de Punta umbría\\n\\nVer en Contratero: https://contratero.es/contracts/6195/2023
URL:https://contratero.es/contracts/6195/2023
STATUS:CONFIRMED
BEGIN:VALARM
TRIGGER:-P1D
ACTION:DISPLAY
DESCRIPTION:Recordatorio: Servicio Consultoría Técnica p
END:VALARM
END:VEVENT
END:VCALENDAR