BEGIN:VCALENDAR
VERSION:2.0
PRODID:-//Contratero//ES
CALSCALE:GREGORIAN
METHOD:PUBLISH
BEGIN:VEVENT
UID:6200/2024@contratero.es
DTSTAMP:20260421T055927Z
DTSTART:20241028T235959
DTEND:20241029T005959
SUMMARY:Cierre: La adjudicación de licencias de uso común especial
DESCRIPTION:La adjudicación de licencias de uso común especial para la instalación de chiringuitos de venta de comida y bebida durante el festival “Arena Negra de Gran Tarajal 2024”.\\n\\nOrganismo: Alcaldía del Ayuntamiento de Tuineje\\n\\nVer en Contratero: https://contratero.es/contracts/6200/2024
URL:https://contratero.es/contracts/6200/2024
STATUS:CONFIRMED
BEGIN:VALARM
TRIGGER:-P1D
ACTION:DISPLAY
DESCRIPTION:Recordatorio: La adjudicación de licencias d
END:VALARM
END:VEVENT
END:VCALENDAR