BEGIN:VCALENDAR
VERSION:2.0
PRODID:-//Contratero//ES
CALSCALE:GREGORIAN
METHOD:PUBLISH
BEGIN:VEVENT
UID:6204/2023@contratero.es
DTSTAMP:20260422T012246Z
DTSTART:20240626T235959
DTEND:20240627T005959
SUMMARY:Cierre: mantenimiento\, reparaciones y telegestión de las i
DESCRIPTION:mantenimiento\, reparaciones y telegestión de las instalaciones de la Diputación de Castellón\\n\\nOrganismo: Junta de Gobierno de la Diputación Provincial de Castellón\\n\\nVer en Contratero: https://contratero.es/contracts/6204/2023
URL:https://contratero.es/contracts/6204/2023
STATUS:CONFIRMED
BEGIN:VALARM
TRIGGER:-P1D
ACTION:DISPLAY
DESCRIPTION:Recordatorio: mantenimiento\, reparaciones y 
END:VALARM
END:VEVENT
END:VCALENDAR