BEGIN:VCALENDAR
VERSION:2.0
PRODID:-//Contratero//ES
CALSCALE:GREGORIAN
METHOD:PUBLISH
BEGIN:VEVENT
UID:63/25-C@contratero.es
DTSTAMP:20260420T011529Z
DTSTART:20251020T235959
DTEND:20251021T005959
SUMMARY:Cierre: Contrato mixto de suministro y servicios para la c
DESCRIPTION:Contrato mixto de suministro y servicios para la cesión del derecho de unos de una aplicación informática para la gestión tributaria\, recaudación e inspección municipales\, de gestión de multas y los s...\\n\\nOrganismo: Junta de Gobierno del Ayuntamiento de Sagunto\\n\\nVer en Contratero: https://contratero.es/contracts/63/25-C
URL:https://contratero.es/contracts/63/25-C
STATUS:CONFIRMED
BEGIN:VALARM
TRIGGER:-P1D
ACTION:DISPLAY
DESCRIPTION:Recordatorio: Contrato mixto de suministro y
END:VALARM
END:VEVENT
END:VCALENDAR