BEGIN:VCALENDAR
VERSION:2.0
PRODID:-//Contratero//ES
CALSCALE:GREGORIAN
METHOD:PUBLISH
BEGIN:VEVENT
UID:6386/2025@contratero.es
DTSTAMP:20260423T100919Z
DTSTART:20251002T235959
DTEND:20251003T005959
SUMMARY:Cierre: Adquisición de una aplicación informática de archi
DESCRIPTION:Adquisición de una aplicación informática de archivo electrónico y preservación digital bajo el modelo "Cloud Computing" o "Nube".\\n\\nOrganismo: Alcaldía del Ayuntamiento de Jávea\\n\\nVer en Contratero: https://contratero.es/contracts/6386/2025
URL:https://contratero.es/contracts/6386/2025
STATUS:CONFIRMED
BEGIN:VALARM
TRIGGER:-P1D
ACTION:DISPLAY
DESCRIPTION:Recordatorio: Adquisición de una aplicación 
END:VALARM
END:VEVENT
END:VCALENDAR