BEGIN:VCALENDAR
VERSION:2.0
PRODID:-//Contratero//ES
CALSCALE:GREGORIAN
METHOD:PUBLISH
BEGIN:VEVENT
UID:6456/2026@contratero.es
DTSTAMP:20260419T175910Z
DTSTART:20260401T235959
DTEND:20260402T005959
SUMMARY:Cierre: Contrato de servicios de implantación de la plataf
DESCRIPTION:Contrato de servicios de implantación de la plataforma para la gestión y comunicación de emergencias en Benidorm (Actuación 8 del Plan de Sostenibilidad Turística en Destino 2023 Verde Benidorm)\\n\\nOrganismo: Junta de Gobierno del Ayuntamiento de Benidorm\\n\\nVer en Contratero: https://contratero.es/contracts/6456/2026
URL:https://contratero.es/contracts/6456/2026
STATUS:CONFIRMED
BEGIN:VALARM
TRIGGER:-P1D
ACTION:DISPLAY
DESCRIPTION:Recordatorio: Contrato de servicios de impla
END:VALARM
END:VEVENT
END:VCALENDAR