BEGIN:VCALENDAR
VERSION:2.0
PRODID:-//Contratero//ES
CALSCALE:GREGORIAN
METHOD:PUBLISH
BEGIN:VEVENT
UID:6463@contratero.es
DTSTAMP:20260420T172551Z
DTSTART:20201216T235959
DTEND:20201217T005959
SUMMARY:Cierre: Servicio de diseño\, publicación y mantenimiento de
DESCRIPTION:Servicio de diseño\, publicación y mantenimiento de los portales web de EMASA\\n\\nOrganismo: Consejero Delegado de la Empresa Municipal de Aguas de Málaga S.A.\\n\\nVer en Contratero: https://contratero.es/contracts/6463
URL:https://contratero.es/contracts/6463
STATUS:CONFIRMED
BEGIN:VALARM
TRIGGER:-P1D
ACTION:DISPLAY
DESCRIPTION:Recordatorio: Servicio de diseño\, publicació
END:VALARM
END:VEVENT
END:VCALENDAR