BEGIN:VCALENDAR
VERSION:2.0
PRODID:-//Contratero//ES
CALSCALE:GREGORIAN
METHOD:PUBLISH
BEGIN:VEVENT
UID:6493/2024@contratero.es
DTSTAMP:20260422T025107Z
DTSTART:20240924T235959
DTEND:20240925T005959
SUMMARY:Cierre: Capacitación y concienciación en ciberseguridad pa
DESCRIPTION:Capacitación y concienciación en ciberseguridad para los empleados municipales.\\n\\nOrganismo: Alcaldía del Ayuntamiento de Jávea\\n\\nVer en Contratero: https://contratero.es/contracts/6493/2024
URL:https://contratero.es/contracts/6493/2024
STATUS:CONFIRMED
BEGIN:VALARM
TRIGGER:-P1D
ACTION:DISPLAY
DESCRIPTION:Recordatorio: Capacitación y concienciación 
END:VALARM
END:VEVENT
END:VCALENDAR